BEGIN:VCALENDAR
BEGIN:VEVENT
SUMMARY:Adventssingen mit dem Kindergarten
DTSTART;VALUE=DATE:20251201
DTEND;VALUE=DATE:20251201
UID:terminkalender-event_1755940823_2041953.html
ORGANIZER:mailto:nic.kirschner@bildung.hessen.de
END:VEVENT
BEGIN:VEVENT
SUMMARY:Adventssingen mit dem Kindergarten
DTSTART;VALUE=DATE:20251208
DTEND;VALUE=DATE:20251208
UID:terminkalender-event_1755940855_999062.html
ORGANIZER:mailto:nic.kirschner@bildung.hessen.de
END:VEVENT
BEGIN:VEVENT
SUMMARY:Adventssingen mit dem Kindergarten
DTSTART;VALUE=DATE:20251215
DTEND;VALUE=DATE:20251215
UID:terminkalender-event_1755940886_4925277.html
ORGANIZER:mailto:nic.kirschner@bildung.hessen.de
END:VEVENT
BEGIN:VEVENT
SUMMARY:Weihnachtsferien
DTSTART;VALUE=DATE:20251222
DTEND;VALUE=DATE:20260109
UID:terminkalender-event_1755941003_368624.html
ORGANIZER:mailto:nic.kirschner@bildung.hessen.de
END:VEVENT
BEGIN:VEVENT
SUMMARY:Schülerversammlung
DTSTART:20260128T103000
DTEND:20260128T104000
UID:terminkalender-event_1755940348_8432765.html
LOCATION:Schulhof
ORGANIZER:mailto:nic.kirschner@bildung.hessen.de
END:VEVENT
BEGIN:VEVENT
SUMMARY:Handballsportfest (Kl. 3 und 4)
DTSTART;VALUE=DATE:20260129
DTEND;VALUE=DATE:20260129
UID:terminkalender-event_1580586330_99.html
ORGANIZER:mailto:nic.kirschner@bildung.hessen.de
END:VEVENT
BEGIN:VEVENT
SUMMARY:Planungstreffen Sommerfest
DTSTART:20260129T170000
DTEND:20260129T180000
UID:terminkalender-event_1769410359_2257378.html
ORGANIZER:mailto:nic.kirschner@bildung.hessen.de
END:VEVENT
BEGIN:VEVENT
SUMMARY:Unterrichtsschluss um 10:05 Uhr - Zeugnisse Kl. 3 und 4
DTSTART:20260130T074500
DTEND:20260130T100500
UID:terminkalender-event_1727423097_2564776.html
ORGANIZER:mailto:nic.kirschner@bildung.hessen.de
END:VEVENT
BEGIN:VEVENT
SUMMARY:Schulkonferenz
DTSTART:20260210T180000
DTEND:20260210T190000
UID:terminkalender-event_1769410463_372358.html
ORGANIZER:mailto:nic.kirschner@bildung.hessen.de
END:VEVENT
BEGIN:VEVENT
SUMMARY:Rosenmontag - Fasching
DTSTART:20260216T083500
DTEND:20260216T120000
UID:terminkalender-event_1769410507_7198865.html
ORGANIZER:mailto:nic.kirschner@bildung.hessen.de
END:VEVENT
BEGIN:VEVENT
SUMMARY:Schülerversammlung
DTSTART:20260227T103000
DTEND:20260227T104500
UID:terminkalender-event_1755940756_6198275.html
LOCATION:Schulhof
ORGANIZER:mailto:nic.kirschner@bildung.hessen.de
END:VEVENT
BEGIN:VEVENT
SUMMARY:Känguru-Wettbewerb
DTSTART;VALUE=DATE:20260319
DTEND;VALUE=DATE:20260319
UID:terminkalender-event_1769410632_3169348.html
ORGANIZER:mailto:nic.kirschner@bildung.hessen.de
END:VEVENT
BEGIN:VEVENT
SUMMARY:Schwimmfest
DTSTART;VALUE=DATE:20260325
DTEND;VALUE=DATE:20260325
UID:terminkalender-event_1771253732_8053467.html
ORGANIZER:mailto:nic.kirschner@bildung.hessen.de
END:VEVENT
BEGIN:VEVENT
SUMMARY:Schülerversammlung
DTSTART:20260326T103000
DTEND:20260326T104500
UID:terminkalender-event_1727422945_9348102.html
LOCATION:Schulhof
ORGANIZER:mailto:nic.kirschner@bildung.hessen.de
END:VEVENT
BEGIN:VEVENT
SUMMARY:Unterrichtsschluss 10:05 Uhr - Osterferien
DTSTART:20260327T074500
DTEND:20260327T100500
UID:terminkalender-event_1769410813_2540941.html
ORGANIZER:mailto:nic.kirschner@bildung.hessen.de
END:VEVENT
BEGIN:VEVENT
SUMMARY:"Gesunde Ernährung" Kl. 3a und 3b
DTSTART;VALUE=DATE:20260413
DTEND;VALUE=DATE:20260417
UID:terminkalender-event_1771253803_926659.html
ORGANIZER:mailto:nic.kirschner@bildung.hessen.de
END:VEVENT
BEGIN:VEVENT
SUMMARY:Elternabend „Kinder sicher im Netz – Erste Schritte gut beglei
 ten“
DTSTART:20260428T183000
DTEND:20260428T200000
UID:terminkalender-event_1776100007_175978.html
LOCATION:Musikraum
ORGANIZER:mailto:nic.kirschner@bildung.hessen.de
END:VEVENT
BEGIN:VEVENT
SUMMARY:Klassenfahrt Kl. 4
DTSTART;VALUE=DATE:20260504
DTEND;VALUE=DATE:20260507
UID:terminkalender-event_1771253845_115554.html
ORGANIZER:mailto:nic.kirschner@bildung.hessen.de
END:VEVENT
BEGIN:VEVENT
SUMMARY:Sommerfest Bildungshaus "Bewegtes Bildungshaus"
DTSTART;VALUE=DATE:20260529
DTEND;VALUE=DATE:20260529
UID:terminkalender-event_1771253882_096156.html
ORGANIZER:mailto:nic.kirschner@bildung.hessen.de
END:VEVENT
BEGIN:VEVENT
SUMMARY:Schulkonferenz
DTSTART:20260602T180000
DTEND:20260602T193000
UID:terminkalender-event_1771254022_9302795.html
ORGANIZER:mailto:nic.kirschner@bildung.hessen.de
END:VEVENT
BEGIN:VEVENT
SUMMARY:Ende des Schuljahres (Zeugnisse)
DTSTART:20260626T074500
DTEND:20260626T100500
UID:terminkalender-event_1771253932_8363934.html
ORGANIZER:mailto:nic.kirschner@bildung.hessen.de
END:VEVENT
END:VCALENDAR
